BEGIN:VCALENDAR
PRODID:-//srclar10150//EN
VERSION:2.0
BEGIN:VEVENT
SUMMARY:Clarks Auction Rooms: Jewellery, Collectables, Antiques &amp; Furnishings
PRIORITY:0
CLASS:PUBLIC
DTSTART:20260430T093000Z
DTEND:20260430T225900Z
DESCRIPTION:
X-ALT-DESC;FMTTYPE=text/html:
LOCATION:2A/2B Heathlands Road Industrial Estate, Heathlands Road, Liskeard, Cornwall, PL14 4DH, United Kingdom
END:VEVENT
END:VCALENDAR